BEGIN:VCALENDAR
VERSION:2.0
PRODID:-//Moyle Park College - ECPv4.6.1//NONSGML v1.0//EN
CALSCALE:GREGORIAN
METHOD:PUBLISH
X-WR-CALNAME:Moyle Park College
X-ORIGINAL-URL:http://moyleparkcollege.ie
X-WR-CALDESC:Events for Moyle Park College
BEGIN:VEVENT
DTSTART;TZID=Europe/Dublin:20170311T080000
DTEND;TZID=Europe/Dublin:20170311T170000
DTSTAMP:20171030T173504
CREATED:20170105T092812Z
LAST-MODIFIED:20170105T092812Z
UID:674-1489219200-1489251600@moyleparkcollege.ie
SUMMARY:Joint Bicentenary Celebration Event with 3 Marist schools
DESCRIPTION:\nInvites to representative group\nPossible venue Maynooth\nStructure: keynote speaker\, liturgy/mass\, lunch\n\n
URL:http://moyleparkcollege.ie/event/joint-bicentenary-celebration-event-3-marist-schools/
CATEGORIES:All,Marist Events
END:VEVENT
END:VCALENDAR