BEGIN:VCALENDAR
VERSION:2.0
PRODID:-//Moyle Park College - ECPv4.6.1//NONSGML v1.0//EN
CALSCALE:GREGORIAN
METHOD:PUBLISH
X-WR-CALNAME:Moyle Park College
X-ORIGINAL-URL:http://moyleparkcollege.ie
X-WR-CALDESC:Events for Moyle Park College
BEGIN:VEVENT
DTSTART;TZID=Europe/Dublin:20170303T080000
DTEND;TZID=Europe/Dublin:20170306T170000
DTSTAMP:20171031T071430
CREATED:20170105T092734Z
LAST-MODIFIED:20170105T092734Z
UID:672-1488528000-1488819600@moyleparkcollege.ie
SUMMARY:Province schools and projects visit to L’Hermitage\, France
DESCRIPTION:Province schools and projects visit to L’Hermitage\, France \n
URL:http://moyleparkcollege.ie/event/province-schools-projects-visit-lhermitage-france/
CATEGORIES:All,Marist Events
END:VEVENT
END:VCALENDAR