BEGIN:VCALENDAR
VERSION:2.0
PRODID:-//Moyle Park College - ECPv4.6.1//NONSGML v1.0//EN
CALSCALE:GREGORIAN
METHOD:PUBLISH
X-WR-CALNAME:Moyle Park College
X-ORIGINAL-URL:http://moyleparkcollege.ie
X-WR-CALDESC:Events for Moyle Park College
BEGIN:VEVENT
DTSTART;TZID=Europe/Dublin:20170107T080000
DTEND;TZID=Europe/Dublin:20170107T170000
DTSTAMP:20171031T152805
CREATED:20161209T123238Z
LAST-MODIFIED:20161220T085159Z
UID:495-1483776000-1483808400@moyleparkcollege.ie
SUMMARY:Meeting for 1st years
DESCRIPTION:Meeting for 1st years \n
URL:http://moyleparkcollege.ie/event/meeting-1st-years/
CATEGORIES:First Year
END:VEVENT
END:VCALENDAR