BEGIN:VCALENDAR
VERSION:2.0
PRODID:-//Moyle Park College - ECPv4.6.1//NONSGML v1.0//EN
CALSCALE:GREGORIAN
METHOD:PUBLISH
X-WR-CALNAME:Moyle Park College
X-ORIGINAL-URL:http://moyleparkcollege.ie
X-WR-CALDESC:Events for Moyle Park College
BEGIN:VEVENT
DTSTART;TZID=Europe/Dublin:20170825T100000
DTEND;TZID=Europe/Dublin:20170825T120000
DTSTAMP:20171030T171707
CREATED:20170612T110805Z
LAST-MODIFIED:20170612T111045Z
UID:1694-1503655200-1503662400@moyleparkcollege.ie
SUMMARY:2nd Years Return
DESCRIPTION:
URL:http://moyleparkcollege.ie/event/2nd-years-return/
CATEGORIES:Second Year
END:VEVENT
END:VCALENDAR