BEGIN:VCALENDAR
VERSION:2.0
PRODID:-//Moyle Park College - ECPv4.6.1//NONSGML v1.0//EN
CALSCALE:GREGORIAN
METHOD:PUBLISH
X-WR-CALNAME:Moyle Park College
X-ORIGINAL-URL:http://moyleparkcollege.ie
X-WR-CALDESC:Events for Moyle Park College
BEGIN:VEVENT
DTSTART;VALUE=DATE:20171204
DTEND;VALUE=DATE:20171205
DTSTAMP:20171030T171816
CREATED:20170612T111802Z
LAST-MODIFIED:20170612T111802Z
UID:1714-1512345600-1512431999@moyleparkcollege.ie
SUMMARY:School Closed (Discretionary day)
DESCRIPTION:
URL:http://moyleparkcollege.ie/event/school-closed-discretionary-day-2/
CATEGORIES:All,First Year,Second Year,TY
END:VEVENT
END:VCALENDAR